BEGIN:VCALENDAR
VERSION:2.0
PRODID:-//Schützenverein Kirchhain 1891 e.V - ECPv6.15.20//NONSGML v1.0//EN
CALSCALE:GREGORIAN
METHOD:PUBLISH
X-WR-CALNAME:Schützenverein Kirchhain 1891 e.V
X-ORIGINAL-URL:https://www.schuetzenverein-kirchhain.de
X-WR-CALDESC:Veranstaltungen für Schützenverein Kirchhain 1891 e.V
REFRESH-INTERVAL;VALUE=DURATION:PT1H
X-Robots-Tag:noindex
X-PUBLISHED-TTL:PT1H
BEGIN:VTIMEZONE
TZID:UTC
BEGIN:STANDARD
TZOFFSETFROM:+0000
TZOFFSETTO:+0000
TZNAME:UTC
DTSTART:20240101T000000
END:STANDARD
END:VTIMEZONE
BEGIN:VEVENT
DTSTART;VALUE=DATE:20250518
DTEND;VALUE=DATE:20250519
DTSTAMP:20260420T040012
CREATED:20250512T110057Z
LAST-MODIFIED:20250516T120913Z
UID:262-1747526400-1747612799@www.schuetzenverein-kirchhain.de
SUMMARY:Königsschießen
DESCRIPTION:Königsschießen \nWir treffen uns um 09 Uhr auf dem Marktplatz in Kirchhain
URL:https://www.schuetzenverein-kirchhain.de/event/koenigsschiessen/
LOCATION:Schützenhaus Kirchhain
END:VEVENT
END:VCALENDAR