BEGIN:VCALENDAR
VERSION:2.0
PRODID:-//Schützenverein Kirchhain 1891 e.V - ECPv6.15.20//NONSGML v1.0//EN
CALSCALE:GREGORIAN
METHOD:PUBLISH
X-ORIGINAL-URL:https://www.schuetzenverein-kirchhain.de
X-WR-CALDESC:Veranstaltungen für Schützenverein Kirchhain 1891 e.V
REFRESH-INTERVAL;VALUE=DURATION:PT1H
X-Robots-Tag:noindex
X-PUBLISHED-TTL:PT1H
BEGIN:VTIMEZONE
TZID:UTC
BEGIN:STANDARD
TZOFFSETFROM:+0000
TZOFFSETTO:+0000
TZNAME:UTC
DTSTART:20240101T000000
END:STANDARD
END:VTIMEZONE
BEGIN:VEVENT
DTSTART;TZID=UTC:20250720T110000
DTEND;TZID=UTC:20250720T190000
DTSTAMP:20260420T004400
CREATED:20250512T113808Z
LAST-MODIFIED:20250516T120857Z
UID:273-1753009200-1753038000@www.schuetzenverein-kirchhain.de
SUMMARY:Sommerfest
DESCRIPTION:Sommer- und Familienfest
URL:https://www.schuetzenverein-kirchhain.de/event/sommerfest/
LOCATION:Schützenhaus Kirchhain
END:VEVENT
END:VCALENDAR