BEGIN:VCALENDAR
VERSION:2.0
PRODID:-//Schützenverein Kirchhain 1891 e.V - ECPv6.15.20//NONSGML v1.0//EN
CALSCALE:GREGORIAN
METHOD:PUBLISH
X-ORIGINAL-URL:https://www.schuetzenverein-kirchhain.de
X-WR-CALDESC:Veranstaltungen für Schützenverein Kirchhain 1891 e.V
REFRESH-INTERVAL;VALUE=DURATION:PT1H
X-Robots-Tag:noindex
X-PUBLISHED-TTL:PT1H
BEGIN:VTIMEZONE
TZID:UTC
BEGIN:STANDARD
TZOFFSETFROM:+0000
TZOFFSETTO:+0000
TZNAME:UTC
DTSTART:20250101T000000
END:STANDARD
END:VTIMEZONE
BEGIN:VEVENT
DTSTART;TZID=UTC:20260620T140000
DTEND;TZID=UTC:20260620T233000
DTSTAMP:20260419T143350
CREATED:20260107T231237Z
LAST-MODIFIED:20260107T231548Z
UID:810-1781964000-1781998200@www.schuetzenverein-kirchhain.de
SUMMARY:Sommerfest 2026
DESCRIPTION:Sommerfest 20.06.2026
URL:https://www.schuetzenverein-kirchhain.de/event/sommerfest-2026/
LOCATION:Schützenhaus Kirchhain
END:VEVENT
END:VCALENDAR