BEGIN:VCALENDAR
VERSION:2.0
PRODID:-//Schützenverein Kirchhain 1891 e.V - ECPv6.15.20//NONSGML v1.0//EN
CALSCALE:GREGORIAN
METHOD:PUBLISH
X-WR-CALNAME:Schützenverein Kirchhain 1891 e.V
X-ORIGINAL-URL:https://www.schuetzenverein-kirchhain.de
X-WR-CALDESC:Veranstaltungen für Schützenverein Kirchhain 1891 e.V
REFRESH-INTERVAL;VALUE=DURATION:PT1H
X-Robots-Tag:noindex
X-PUBLISHED-TTL:PT1H
BEGIN:VTIMEZONE
TZID:UTC
BEGIN:STANDARD
TZOFFSETFROM:+0000
TZOFFSETTO:+0000
TZNAME:UTC
DTSTART:20250101T000000
END:STANDARD
END:VTIMEZONE
BEGIN:VEVENT
DTSTART;TZID=UTC:20261121T180000
DTEND;TZID=UTC:20261122T060000
DTSTAMP:20260420T013341
CREATED:20251229T114139Z
LAST-MODIFIED:20251229T114339Z
UID:784-1795284000-1795327200@www.schuetzenverein-kirchhain.de
SUMMARY:Jahresabschluß
DESCRIPTION:Jahresabschluß\, Samstag 21.11.2026
URL:https://www.schuetzenverein-kirchhain.de/event/jahresabschluss-2/
LOCATION:Schützenhaus Kirchhain
END:VEVENT
END:VCALENDAR